BEGIN:VCALENDAR
VERSION:2.0
PRODID:-//Being Grounded - ECPv5.3.2.1//NONSGML v1.0//EN
CALSCALE:GREGORIAN
METHOD:PUBLISH
X-WR-CALNAME:Being Grounded
X-ORIGINAL-URL:http://beinggrounded.com.au
X-WR-CALDESC:Events for Being Grounded
BEGIN:VTIMEZONE
TZID:Australia/Melbourne
BEGIN:STANDARD
TZOFFSETFROM:+1100
TZOFFSETTO:+1000
TZNAME:AEST
DTSTART:20200404T160000
END:STANDARD
BEGIN:DAYLIGHT
TZOFFSETFROM:+1000
TZOFFSETTO:+1100
TZNAME:AEDT
DTSTART:20201003T160000
END:DAYLIGHT
END:VTIMEZONE
BEGIN:VEVENT
DTSTART;TZID=Australia/Melbourne:20200308T084500
DTEND;TZID=Australia/Melbourne:20200308T100000
DTSTAMP:20210301T144712
CREATED:20200107T020245Z
LAST-MODIFIED:20200107T020609Z
UID:1134-1583657100-1583661600@beinggrounded.com.au
SUMMARY:Family Yoga on Sunday 8 March
DESCRIPTION:Join us in the school hall of Nashville State School for an hour of positively fun family time. We’ll move our bodies with yoga poses\, partner poses\, breathing exercises\, affirmations and relaxation. Suitable for all ages and abilities. Cost is $30 per family.
URL:http://beinggrounded.com.au/event/family-yoga-sunday-8-march/
LOCATION:Nashville State School\, Cnr Douglas & Baskerville Streets\, Brighton\, Queensland\, 4017\, Australia
END:VEVENT
END:VCALENDAR