BEGIN:VCALENDAR
VERSION:2.0
PRODID:-//Being Grounded - ECPv5.3.2.1//NONSGML v1.0//EN
CALSCALE:GREGORIAN
METHOD:PUBLISH
X-WR-CALNAME:Being Grounded
X-ORIGINAL-URL:http://beinggrounded.com.au
X-WR-CALDESC:Events for Being Grounded
BEGIN:VTIMEZONE
TZID:Australia/Melbourne
BEGIN:STANDARD
TZOFFSETFROM:+1100
TZOFFSETTO:+1000
TZNAME:AEST
DTSTART:20200404T160000
END:STANDARD
BEGIN:DAYLIGHT
TZOFFSETFROM:+1000
TZOFFSETTO:+1100
TZNAME:AEDT
DTSTART:20201003T160000
END:DAYLIGHT
END:VTIMEZONE
BEGIN:VEVENT
DTSTART;TZID=Australia/Melbourne:20200722T111500
DTEND;TZID=Australia/Melbourne:20200909T114500
DTSTAMP:20210301T144004
CREATED:20200621T034912Z
LAST-MODIFIED:20200621T034912Z
UID:1707-1595416500-1599651900@beinggrounded.com.au
SUMMARY:Kids Yoga in Sandgate Kindy - Wednesdays
DESCRIPTION:A weekly incursion for the children of Sandgate Kindy on Wednesdays. This is offered as an 8 week block from Wednesday 22 July to Wednesday 9 September for Group 2.
URL:http://beinggrounded.com.au/event/kids-yoga-in-sandgate-kindy-wednesdays/
LOCATION:Sandgate Kindy\, Queensland\, 4017\, Australia
END:VEVENT
END:VCALENDAR