BEGIN:VCALENDAR
VERSION:2.0
PRODID:-//Being Grounded - ECPv5.3.2.1//NONSGML v1.0//EN
CALSCALE:GREGORIAN
METHOD:PUBLISH
X-WR-CALNAME:Being Grounded
X-ORIGINAL-URL:http://beinggrounded.com.au
X-WR-CALDESC:Events for Being Grounded
BEGIN:VTIMEZONE
TZID:Australia/Melbourne
BEGIN:STANDARD
TZOFFSETFROM:+1100
TZOFFSETTO:+1000
TZNAME:AEST
DTSTART:20200404T160000
END:STANDARD
BEGIN:DAYLIGHT
TZOFFSETFROM:+1000
TZOFFSETTO:+1100
TZNAME:AEDT
DTSTART:20201003T160000
END:DAYLIGHT
END:VTIMEZONE
BEGIN:VEVENT
DTSTART;TZID=Australia/Melbourne:20200227T153000
DTEND;TZID=Australia/Melbourne:20200227T163000
DTSTAMP:20210301T144650
CREATED:20200107T052504Z
LAST-MODIFIED:20200220T052930Z
UID:1147-1582817400-1582821000@beinggrounded.com.au
SUMMARY:Kids Yoga - The Upside Down Class
DESCRIPTION:Kids Yoga – The Upside Down Class! I’m jumping with joy to share upside down yoga\, inversion poses\, yoga on the wall and generally experiencing yoga and life from a different perspective. Suitable for kids aged 5-12 years. (Please get in touch if you older or younger kids are keen too\, and I will schedule another class!) Cost is $15 for 1 hour.
URL:http://beinggrounded.com.au/event/kids-yoga-upside-class/
LOCATION:Revive Whole Body Studio\, Rainbow Street\, Sandgate\, Queensland\, 4017\, Australia
END:VEVENT
END:VCALENDAR