BEGIN:VCALENDAR
VERSION:2.0
PRODID:-//Being Grounded - ECPv5.3.2.1//NONSGML v1.0//EN
CALSCALE:GREGORIAN
METHOD:PUBLISH
X-WR-CALNAME:Being Grounded
X-ORIGINAL-URL:http://beinggrounded.com.au
X-WR-CALDESC:Events for Being Grounded
BEGIN:VTIMEZONE
TZID:Australia/Melbourne
BEGIN:STANDARD
TZOFFSETFROM:+1100
TZOFFSETTO:+1000
TZNAME:AEST
DTSTART:20200404T160000
END:STANDARD
BEGIN:DAYLIGHT
TZOFFSETFROM:+1000
TZOFFSETTO:+1100
TZNAME:AEDT
DTSTART:20201003T160000
END:DAYLIGHT
END:VTIMEZONE
BEGIN:VEVENT
DTSTART;TZID=Australia/Melbourne:20200923T090000
DTEND;TZID=Australia/Melbourne:20200923T120000
DTSTAMP:20210301T144128
CREATED:20200826T040153Z
LAST-MODIFIED:20200922T013305Z
UID:1866-1600851600-1600862400@beinggrounded.com.au
SUMMARY:Rock'n Stars Kids Yoga Workshop on Wednesday 23 September
DESCRIPTION:Join us in the grounds of Nashville State School for another fun kids yoga and art workshop\, from 9am-12 midday.  We’ll be creating our own rock art with stars to remind us that we are one with the earth and yet can reach for the stars! Suitable for ages 5-12 years and filled with 3 hours of joyful energy\, positivity and connection for your kids. Cost is $45 per child.
URL:http://beinggrounded.com.au/event/rockn-stars-kids-yoga-workshop-on-wednesday-23-september/
LOCATION:Nashville State School\, Cnr Douglas & Baskerville Streets\, Brighton\, Queensland\, 4017\, Australia
END:VEVENT
END:VCALENDAR