BEGIN:VCALENDAR
VERSION:2.0
PRODID:-//Being Grounded - ECPv5.3.2.1//NONSGML v1.0//EN
CALSCALE:GREGORIAN
METHOD:PUBLISH
X-WR-CALNAME:Being Grounded
X-ORIGINAL-URL:https://beinggrounded.com.au
X-WR-CALDESC:Events for Being Grounded
BEGIN:VTIMEZONE
TZID:Australia/Melbourne
BEGIN:STANDARD
TZOFFSETFROM:+1100
TZOFFSETTO:+1000
TZNAME:AEST
DTSTART:20210403T160000
END:STANDARD
BEGIN:DAYLIGHT
TZOFFSETFROM:+1000
TZOFFSETTO:+1100
TZNAME:AEDT
DTSTART:20211002T160000
END:DAYLIGHT
END:VTIMEZONE
BEGIN:VEVENT
DTSTART;TZID=Australia/Melbourne:20210222T100000
DTEND;TZID=Australia/Melbourne:20210329T102000
DTSTAMP:20210225T124232
CREATED:20210201T235505Z
LAST-MODIFIED:20210202T003628Z
UID:2374-1613988000-1617013200@beinggrounded.com.au
SUMMARY:Sandgate Kids Childcare - Yoga for Junior Kindy in Term 1
DESCRIPTION:An in-house yoga program for the children in the Junior Kindy (Possums) Room aged 3-4 years.\n6 x weekly classes commencing on Monday 22 February at 10am – Monday 29 March.\nCost is $50 per child.
URL:https://beinggrounded.com.au/event/sandgate-kids-childcare-yoga-for-junior-kindy-in-term-1/
LOCATION:Sandgate Childcare
END:VEVENT
END:VCALENDAR