BEGIN:VCALENDAR
VERSION:2.0
PRODID:-//Being Grounded - ECPv5.3.2.1//NONSGML v1.0//EN
CALSCALE:GREGORIAN
METHOD:PUBLISH
X-WR-CALNAME:Being Grounded
X-ORIGINAL-URL:https://beinggrounded.com.au
X-WR-CALDESC:Events for Being Grounded
BEGIN:VTIMEZONE
TZID:Australia/Melbourne
BEGIN:STANDARD
TZOFFSETFROM:+1100
TZOFFSETTO:+1000
TZNAME:AEST
DTSTART:20210403T160000
END:STANDARD
BEGIN:DAYLIGHT
TZOFFSETFROM:+1000
TZOFFSETTO:+1100
TZNAME:AEDT
DTSTART:20211002T160000
END:DAYLIGHT
END:VTIMEZONE
BEGIN:VEVENT
DTSTART;TZID=Australia/Melbourne:20210222T103000
DTEND;TZID=Australia/Melbourne:20210329T110000
DTSTAMP:20210225T124252
CREATED:20210202T001001Z
LAST-MODIFIED:20210202T003533Z
UID:2385-1613989800-1617015600@beinggrounded.com.au
SUMMARY:Sandgate Kids Childcare - Yoga in the Kindy Room
DESCRIPTION:An in-house program for the kindergarten (kingfishers) room in Sandgate Childcare. This is 6 x weekly classes to build muscle tone\, balance\, co-ordination and self awareness and to help regulate emotions. Its fun\, joyful with songs\, music\, poses and mindfulness to help your kids feel more connected inside and out. Cost is $60.
URL:https://beinggrounded.com.au/event/sandgate-kids-childcare-yoga-in-the-kindy-room/
LOCATION:Sandgate Childcare
END:VEVENT
END:VCALENDAR