BEGIN:VCALENDAR
VERSION:2.0
PRODID:-//Being Grounded - ECPv5.3.2.1//NONSGML v1.0//EN
CALSCALE:GREGORIAN
METHOD:PUBLISH
X-WR-CALNAME:Being Grounded
X-ORIGINAL-URL:https://beinggrounded.com.au
X-WR-CALDESC:Events for Being Grounded
BEGIN:VTIMEZONE
TZID:Australia/Melbourne
BEGIN:STANDARD
TZOFFSETFROM:+1100
TZOFFSETTO:+1000
TZNAME:AEST
DTSTART:20210403T160000
END:STANDARD
BEGIN:DAYLIGHT
TZOFFSETFROM:+1000
TZOFFSETTO:+1100
TZNAME:AEDT
DTSTART:20211002T160000
END:DAYLIGHT
END:VTIMEZONE
BEGIN:VEVENT
DTSTART;TZID=Australia/Melbourne:20210128T093000
DTEND;TZID=Australia/Melbourne:20210327T103000
DTSTAMP:20210225T124127
CREATED:20210119T050931Z
LAST-MODIFIED:20210202T040756Z
UID:2327-1611826200-1616841000@beinggrounded.com.au
SUMMARY:Yoga Flow with Ainsley
DESCRIPTION:Join me\, Ainsley\, every Thursday morning during term 1 for a flowing yoga class in my intuitive style.   Starting on Thursday 28 January at 9.30am. \nThis is in a new location\, Inner Healing Wellness Centre\, 32 Hornibrook Esplanade\, Clontarf 4019.  Its a beautiful studio directly opposite the beach.   We can witness the stillness of the ocean during the yoga class.  \nThis is a small group class\, limited to 9\, and suitable for both beginners and those with a little more experience. I love to bring a little more ease and lightness into your physical body\, by synchronizing breath and movement together.  Having the bonus of beach vibes brings a little more bliss too!  \nBookings are essential\, for new clients the first class is $10.  Class passes are available\, 10 classes for $200 or 5 classes for $110.  For more information please get in touch ainsley@beinggrounded.com.au
URL:https://beinggrounded.com.au/event/yoga-flow-with-ainsley/
LOCATION:Inner Healing Wellness Centre\, 32 Hornibrook Esplanade\, Clontarf\, QLD\, 4019\, Australia
END:VEVENT
END:VCALENDAR